BEGIN:VCALENDAR
VERSION:2.0
PRODID:-//Tukios.com/
BEGIN:VEVENT
UID:c096454b-f35d-42d0-98c6-d492b3fa1e8f@www.brookslyon.com
DTSTAMP:20260423T011501Z
DTSTART:20260506T180000Z
DTEND:20260506T190000Z
SUMMARY:Memorial Gathering
DESCRIPTION:Ice Cream Social
URL:https://www.brookslyon.com/obituaries/edward-pollard
LOCATION: 502 Virginia Avenue  Clarksville VA 23927
GEO:36.6241625;-78.5583261
END:VEVENT
END:VCALENDAR