BEGIN:VCALENDAR
VERSION:2.0
PRODID:-//Tukios.com/
BEGIN:VEVENT
UID:5ca89d97-c743-4c2c-acc5-a909e507dabf@www.brookslyon.com
DTSTAMP:20260423T011243Z
DTSTART:20260724T160000Z
DTEND:20260724T170000Z
SUMMARY:Burial
DESCRIPTION:
URL:https://www.brookslyon.com/obituaries/edward-pollard
LOCATION:Parkwood Cemetery 3310 Taylor Ave  Baltimore MD 21234
GEO:39.3688371;-76.5329269
END:VEVENT
END:VCALENDAR