BEGIN:VCALENDAR
VERSION:2.0
PRODID:-//Tukios.com/
BEGIN:VEVENT
UID:055358b1-66f8-4d98-a90a-5089867535fb@www.brookslyon.com
DTSTAMP:20260421T044310Z
DTSTART:20260422T220000Z
DTEND:20260422T230000Z
SUMMARY:Funeral Service
DESCRIPTION:
URL:https://www.brookslyon.com/obituaries/gladys-escalera
LOCATION:Brooks Lyon Funeral Home 115 Main St  South Boston VA 24592
GEO:36.6958418;-78.9007322
END:VEVENT
END:VCALENDAR