BEGIN:VCALENDAR
VERSION:2.0
PRODID:-//Tukios.com/
BEGIN:VEVENT
UID:f1390cde-019c-4847-b410-f3ea39c26614@www.brookslyon.com
DTSTAMP:20260421T044719Z
DTSTART:20260422T210000Z
DTEND:20260422T220000Z
SUMMARY:Visitation
DESCRIPTION:
URL:https://www.brookslyon.com/obituaries/gladys-escalera
LOCATION:Brooks Lyon Funeral Home 115 Main St  South Boston VA 24592
GEO:36.6958418;-78.9007322
END:VEVENT
END:VCALENDAR