BEGIN:VCALENDAR
VERSION:2.0
PRODID:-//Tukios.com/
BEGIN:VEVENT
UID:b74f1eb2-9380-4998-88b2-e86e77efb16e@www.brookslyon.com
DTSTAMP:20260422T211357Z
DTSTART:20260424T170000Z
DTEND:20260424T180000Z
SUMMARY:Visitation
DESCRIPTION:
URL:https://www.brookslyon.com/obituaries/jerry-short
LOCATION: 1026 Millstone Church Trail  Nathalie VA 24577
GEO:36.8695809;-79.010974
END:VEVENT
END:VCALENDAR