BEGIN:VCALENDAR
VERSION:2.0
PRODID:-//Tukios.com/
BEGIN:VEVENT
UID:27784006-e372-44a1-9c24-ef7d9bcc9227@www.brookslyon.com
DTSTAMP:20260422T211233Z
DTSTART:20260424T180000Z
DTEND:20260424T190000Z
SUMMARY:Funeral Service
DESCRIPTION:
URL:https://www.brookslyon.com/obituaries/jerry-short
LOCATION: 1026 Millstone Church Trail  Nathalie VA 24577
GEO:36.8695809;-79.010974
END:VEVENT
END:VCALENDAR