BEGIN:VCALENDAR
VERSION:2.0
PRODID:-//Tukios.com/
BEGIN:VEVENT
UID:3d6bbd91-0566-47a6-9ae9-34e2e68d40f0@www.brookslyon.com
DTSTAMP:20260423T221738Z
DTSTART:20260425T170000Z
DTEND:20260425T180000Z
SUMMARY:Celebration of Life
DESCRIPTION:
URL:https://www.brookslyon.com/obituaries/kimberly-skipper
LOCATION:Rehoboth Community Church 3577 Phyliss Rd  Boydton VA 23947
GEO:36.6676413;-78.3874978
END:VEVENT
END:VCALENDAR