BEGIN:VCALENDAR
VERSION:2.0
PRODID:-//Tukios.com/
BEGIN:VEVENT
UID:c19fcbd7-7cfe-4a9f-8deb-f8df182938bc@www.brookslyon.com
DTSTAMP:20260420T223320Z
DTSTART:20260424T180000Z
DTEND:20260424T190000Z
SUMMARY:Graveside Service
DESCRIPTION:
URL:https://www.brookslyon.com/obituaries/thomas-herring
LOCATION:Cedar Grove United Methodist Church Cemetery Cedar Grove Road  
	Alton VA 24520
GEO:36.621639;-78.9866359
END:VEVENT
END:VCALENDAR